BEGIN:VCALENDAR
VERSION:2.0
PRODID:-//eventon.com NONSGML v1.0//EN
CALSCALE:GREGORIAN
METHOD:PUBLISH
BEGIN:VEVENT
UID:69ecf17363f3d
DTSTAMP:20260425T165307Z
DTSTART:20240207T223000Z
DTEND:20240208T010000Z
LOCATION:Beechwood Hotel 363 Plantation St\,  Worcester\,  MA 01605
SUMMARY:228th Annual Oration
DESCRIPTION:Click Here to read more about the speaker\nhttps://www.wdms.org
 /events/228th-annual-oration/
URL:https://www.wdms.org/events/228th-annual-oration/
END:VEVENT
END:VCALENDAR