BEGIN:VCALENDAR
VERSION:2.0
PRODID:-//eventon.com NONSGML v1.0//EN
CALSCALE:GREGORIAN
METHOD:PUBLISH
BEGIN:VEVENT
UID:69eb47893e95d
DTSTAMP:20260424T103553Z
DTSTART:20260415T213000Z
DTEND:20260415T233000Z
LOCATION:University of Massachusetts Chan Medical School 55 N Lake Ave\,  Worcester\,  MA 01655
SUMMARY:3rd Annual Financial Workshop
DESCRIPTION:Event will take place in the Lazare Autidorium\,  S1-607 Learn 
 More About the Speakers Register for This Event\nhttps://www.wdms.org/event
 s/3rd-annual-financial-workshop/
URL:https://www.wdms.org/events/3rd-annual-financial-workshop/
END:VEVENT
END:VCALENDAR